BEGIN:VCALENDAR
VERSION:2.0
PRODID:-//105.7 KOZZ - ECPv5.6.0//NONSGML v1.0//EN
CALSCALE:GREGORIAN
METHOD:PUBLISH
X-WR-CALNAME:105.7 KOZZ
X-ORIGINAL-URL:https://www.kozzradio.com
X-WR-CALDESC:Events for 105.7 KOZZ
BEGIN:VTIMEZONE
TZID:America/Los_Angeles
BEGIN:DAYLIGHT
TZOFFSETFROM:-0800
TZOFFSETTO:-0700
TZNAME:PDT
DTSTART:20260308T100000
END:DAYLIGHT
BEGIN:STANDARD
TZOFFSETFROM:-0700
TZOFFSETTO:-0800
TZNAME:PST
DTSTART:20261101T090000
END:STANDARD
BEGIN:DAYLIGHT
TZOFFSETFROM:-0800
TZOFFSETTO:-0700
TZNAME:PDT
DTSTART:20270314T100000
END:DAYLIGHT
BEGIN:STANDARD
TZOFFSETFROM:-0700
TZOFFSETTO:-0800
TZNAME:PST
DTSTART:20271107T090000
END:STANDARD
END:VTIMEZONE
BEGIN:VEVENT
DTSTART;TZID=America/Los_Angeles:20260313T000000
DTEND;TZID=America/Los_Angeles:20260726T235900
DTSTAMP:20260419T234200
CREATED:20260309T213532Z
LAST-MODIFIED:20260414T203228Z
UID:73880-1773360000-1785110340@www.kozzradio.com
SUMMARY:Cirque Alice
DESCRIPTION:Get you tickets now!\n 
URL:https://www.kozzradio.com/event/cirque-alice/
LOCATION:Eldorado Showroom\, 345 N Virginia St\, Reno\, NV\, 89501\, United States
CATEGORIES:Event
ATTACH;FMTTYPE=image/jpeg:https://dehayf5mhw1h7.cloudfront.net/wp-content/uploads/sites/2162/2026/03/09213532/cirque-alice-hat.jpg
END:VEVENT
BEGIN:VEVENT
DTSTART;TZID=America/Los_Angeles:20260425T200000
DTEND;TZID=America/Los_Angeles:20260425T223000
DTSTAMP:20260419T234200
CREATED:20260415T191521Z
LAST-MODIFIED:20260415T191542Z
UID:74110-1777147200-1777156200@www.kozzradio.com
SUMMARY:Jay Leno
DESCRIPTION:No Politics\, No Preaching\, Just Jokes! Jay Leno comedy is also clean!
URL:https://www.kozzradio.com/event/jay-leno/
LOCATION:Silver Legacy’s Grande Exposition Hall\, 407 N. Virginia Street\, Reno\, NV\, 89501\, United States
CATEGORIES:Comedy
ATTACH;FMTTYPE=image/jpeg:https://dehayf5mhw1h7.cloudfront.net/wp-content/uploads/sites/2162/2026/04/15191521/jay-leno-reno.jpg
END:VEVENT
BEGIN:VEVENT
DTSTART;VALUE=DATE:20260507
DTEND;VALUE=DATE:20260508
DTSTAMP:20260419T234200
CREATED:20260325T163006Z
LAST-MODIFIED:20260414T202846Z
UID:73974-1778112000-1778198399@www.kozzradio.com
SUMMARY:Iron Maiden - Burning Ambition - Movie Release
DESCRIPTION:Feel the thunder. Relive the legacy. Step inside the fire.\nGet a rare and intimate look at one of rock’s most legendary forces in IRON MAIDEN: BURNING AMBITION. \nFrom sold-out arenas and screaming fans… to the relentless drive that built a band that never compromised their sound or their vision — this is Iron Maiden like you’ve never seen them before. \n🎸 For those who cranked the volume in their Camaros…🎸 Wore out vinyl copies and cassette tapes…🎸 And still believe the spirit of classic rock never dies… \nIRON MAIDEN: BURNING AMBITION roars onto the big screen May 7 for a limited time only. \nDon’t just hear the music… experience the legacy. \n⚡ Get your tickets now at www.ironmaidenfilm.com \nBecause legends aren’t remembered… they’re relived.
URL:https://www.kozzradio.com/event/iron-maiden-burning-ambition-movie-release/
LOCATION:NV
ATTACH;FMTTYPE=image/jpeg:https://dehayf5mhw1h7.cloudfront.net/wp-content/uploads/sites/2162/2026/03/25092923/iron-maiden-burning-ambition-movie-release-5_7-only.jpg
END:VEVENT
BEGIN:VEVENT
DTSTART;TZID=America/Los_Angeles:20260517T190000
DTEND;TZID=America/Los_Angeles:20260517T230000
DTSTAMP:20260419T234200
CREATED:20260220T182210Z
LAST-MODIFIED:20260414T202230Z
UID:73738-1779044400-1779058800@www.kozzradio.com
SUMMARY:Jason Bonham's Led Zeppelin Evening
DESCRIPTION:Get you tickets now!\n \nJason starred with Ted Nugent\, Evan Seinfeld (Biohazard)\, Sebastian Bach (Skid\nRow) and Scott Ian (Anthrax) on the VH1 reality tv show\, &quot;SuperGroup&quot;\, in May\n2006. The musicians formed a band called Damnocracy for the show\, during which\nthey lived in a mansion in Las Vegas for twelve days and created music. Most\nrecently\, Jason has performed and recorded with Foreigner.
URL:https://www.kozzradio.com/event/john-bonhams-led-zeppelin-evening/
LOCATION:Silver Legacy’s Grande Exposition Hall\, 407 N. Virginia Street\, Reno\, NV\, 89501\, United States
CATEGORIES:Concert
ATTACH;FMTTYPE=image/jpeg:https://dehayf5mhw1h7.cloudfront.net/wp-content/uploads/sites/2162/2026/02/20182210/lblze-slider-image.jpg
END:VEVENT
BEGIN:VEVENT
DTSTART;TZID=America/Los_Angeles:20260521T200000
DTEND;TZID=America/Los_Angeles:20260521T220000
DTSTAMP:20260419T234200
CREATED:20251121T010010Z
LAST-MODIFIED:20260414T202207Z
UID:73197-1779393600-1779400800@www.kozzradio.com
SUMMARY:America
DESCRIPTION:Get you tickets now!
URL:https://www.kozzradio.com/event/america/
LOCATION:Silver Legacy’s Grande Exposition Hall\, 407 N. Virginia Street\, Reno\, NV\, 89501\, United States
CATEGORIES:Concert
ATTACH;FMTTYPE=image/png:https://dehayf5mhw1h7.cloudfront.net/wp-content/uploads/sites/2162/2025/11/20165202/america-tour.png
END:VEVENT
BEGIN:VEVENT
DTSTART;TZID=America/Los_Angeles:20260529T200000
DTEND;TZID=America/Los_Angeles:20260529T233000
DTSTAMP:20260419T234200
CREATED:20260223T175958Z
LAST-MODIFIED:20260414T202034Z
UID:73723-1780084800-1780097400@www.kozzradio.com
SUMMARY:Paramount's Pink Floyd Laser Spectacular
DESCRIPTION:Get you tickets now!
URL:https://www.kozzradio.com/event/paramounts-pink-floyd-laser-spectacular/
LOCATION:Harrah’s Lake Tahoe\, 15 US-50\, Stateline\, NV\, 89449\, United States
CATEGORIES:Concert
ATTACH;FMTTYPE=image/jpeg:https://dehayf5mhw1h7.cloudfront.net/wp-content/uploads/sites/2162/2026/02/20141259/pfls.jpg
END:VEVENT
BEGIN:VEVENT
DTSTART;TZID=America/Los_Angeles:20260612T200000
DTEND;TZID=America/Los_Angeles:20260612T223000
DTSTAMP:20260419T234200
CREATED:20251223T214410Z
LAST-MODIFIED:20251223T214423Z
UID:73372-1781294400-1781303400@www.kozzradio.com
SUMMARY:Jim Gaffigan
DESCRIPTION:Jim Gaffigan brings his “Everything is Wonderful” tour to the Grand Theater at the Grand Sierra Resort!
URL:https://www.kozzradio.com/event/jim-gaffigan/
LOCATION:Grand Sierra Resort\, 2500 E 2nd St\, Reno\, NV\, 89595\, United States
CATEGORIES:Comedy
ATTACH;FMTTYPE=image/png:https://dehayf5mhw1h7.cloudfront.net/wp-content/uploads/sites/2162/2025/12/23214410/gaffigan.png
END:VEVENT
BEGIN:VEVENT
DTSTART;TZID=America/Los_Angeles:20260619T180000
DTEND;TZID=America/Los_Angeles:20260619T210000
DTSTAMP:20260419T234200
CREATED:20260213T235354Z
LAST-MODIFIED:20260414T202132Z
UID:73668-1781892000-1781902800@www.kozzradio.com
SUMMARY:Night Ranger
DESCRIPTION:Get you tickets now!
URL:https://www.kozzradio.com/event/night-ranger/
LOCATION:Downtown Reno\, Reno\, NV\, 89501\, United States
CATEGORIES:Concert
ATTACH;FMTTYPE=image/jpeg:https://dehayf5mhw1h7.cloudfront.net/wp-content/uploads/sites/2162/2026/02/13235354/night-ranger-bbq-brews-n-blues.jpg
END:VEVENT
BEGIN:VEVENT
DTSTART;TZID=America/Los_Angeles:20260716T080000
DTEND;TZID=America/Los_Angeles:20260716T170000
DTSTAMP:20260419T234200
CREATED:20260122T183346Z
LAST-MODIFIED:20260122T183358Z
UID:73521-1784188800-1784221200@www.kozzradio.com
SUMMARY:Blues Traveler\, Gin Blossoms & Spin Doctors
DESCRIPTION:Three iconic bands come together for one unforgettable night at the Nugget Ballroom. Blues Traveler\, Gin Blossoms\, and Spin Doctors bring decades of chart-topping hits and crowd-favorite anthems to the stage for a high-energy concert packed with ‘90s alt-rock nostalgia.
URL:https://www.kozzradio.com/event/blues-traveler-gin-blossoms-spin-doctors/
LOCATION:Nugget Casino Resort\, 1100 Nugget Avenue\, Sparks\, NV\, 89431\, United States
CATEGORIES:Concert
ATTACH;FMTTYPE=image/jpeg:https://dehayf5mhw1h7.cloudfront.net/wp-content/uploads/sites/2162/2026/01/22183346/07-16_blues-travelers-gin-blossoms_1920x1080.jpg
END:VEVENT
BEGIN:VEVENT
DTSTART;TZID=America/Los_Angeles:20260718T190000
DTEND;TZID=America/Los_Angeles:20260718T230000
DTSTAMP:20260419T234200
CREATED:20260309T140752Z
LAST-MODIFIED:20260414T201759Z
UID:73875-1784401200-1784415600@www.kozzradio.com
SUMMARY:Megadeth
DESCRIPTION:Get you tickets now!
URL:https://www.kozzradio.com/event/megadeth-2/
LOCATION:Grand Sierra Resort\, 2500 E 2nd St\, Reno\, NV\, 89595\, United States
CATEGORIES:Concert
ATTACH;FMTTYPE=image/jpeg:https://dehayf5mhw1h7.cloudfront.net/wp-content/uploads/sites/2162/2026/03/09140752/megadeth-gsr-7-18-slider-1.jpg
END:VEVENT
BEGIN:VEVENT
DTSTART;TZID=America/Los_Angeles:20260719T190000
DTEND;TZID=America/Los_Angeles:20260719T233000
DTSTAMP:20260419T234200
CREATED:20260324T180153Z
LAST-MODIFIED:20260414T201742Z
UID:74016-1784487600-1784503800@www.kozzradio.com
SUMMARY:The Rock Road Show
DESCRIPTION:Get you tickets now!\n 
URL:https://www.kozzradio.com/event/the-rock-road-show/
LOCATION:Tahoe Blue Event Center\, 75 Hwy 50\, Stateline\, NV\, 89449\, United States
CATEGORIES:Concert
ATTACH;FMTTYPE=image/jpeg:https://dehayf5mhw1h7.cloudfront.net/wp-content/uploads/sites/2162/2026/04/24180153/gene-simmons-band-7-19.jpg
END:VEVENT
BEGIN:VEVENT
DTSTART;TZID=America/Los_Angeles:20260808T190000
DTEND;TZID=America/Los_Angeles:20260808T233000
DTSTAMP:20260419T234200
CREATED:20260303T221245Z
LAST-MODIFIED:20260324T134228Z
UID:73827-1786215600-1786231800@www.kozzradio.com
SUMMARY:Santana & The Doobie Brothers: Oneness 2026
DESCRIPTION:Santana & The Doobie Brothers for The Oneness 2026 Tour at Toyota Amphitheater 8/8\nTickets on-sale now!
URL:https://www.kozzradio.com/event/santana-the-doobie-brothers-oneness-2026/
LOCATION:Toyota Amphitheatre\, 2677 Forty Mile Road\, Wheatland\, CA\, 95692\, United States
CATEGORIES:Concert
ATTACH;FMTTYPE=image/jpeg:https://dehayf5mhw1h7.cloudfront.net/wp-content/uploads/sites/2162/2026/03/03141118/santana-and-doobie-brothers.jpg
END:VEVENT
BEGIN:VEVENT
DTSTART;TZID=America/Los_Angeles:20260809T190000
DTEND;TZID=America/Los_Angeles:20260809T223000
DTSTAMP:20260419T234200
CREATED:20260122T184418Z
LAST-MODIFIED:20260414T201830Z
UID:73526-1786302000-1786314600@www.kozzradio.com
SUMMARY:Tedeschi Trucks Band
DESCRIPTION:Get you tickets now!
URL:https://www.kozzradio.com/event/tedeschi-trucks-band/
LOCATION:Lake Tahoe Amphitheater & Caesars Republic\, Highway 50\, Stateline\, NV\, 89449\, United States
CATEGORIES:Concert
ATTACH;FMTTYPE=image/jpeg:https://dehayf5mhw1h7.cloudfront.net/wp-content/uploads/sites/2162/2026/01/22184418/ttb_tahoe_tvslide.jpg
END:VEVENT
BEGIN:VEVENT
DTSTART;TZID=America/Los_Angeles:20260815T180000
DTEND;TZID=America/Los_Angeles:20260815T230000
DTSTAMP:20260419T234200
CREATED:20251209T235904Z
LAST-MODIFIED:20260104T190210Z
UID:73298-1786816800-1786834800@www.kozzradio.com
SUMMARY:Shoreline - Toto\, Christopher Cross\, and The Romantics
DESCRIPTION:A Night Of Legends Live Onstage!
URL:https://www.kozzradio.com/event/toto-christopher-cross-and-the-romantics/
LOCATION:Shoreline Ampitheater\, One Amphitheatre Pkwy\, Mountain View\, CA\, 94043\, United States
CATEGORIES:Concert
ATTACH;FMTTYPE=image/jpeg:https://dehayf5mhw1h7.cloudfront.net/wp-content/uploads/sites/2162/2025/12/09154335/toto-cross-romantics.jpg
END:VEVENT
BEGIN:VEVENT
DTSTART;TZID=America/Los_Angeles:20260816T180000
DTEND;TZID=America/Los_Angeles:20260816T230000
DTSTAMP:20260419T234200
CREATED:20251210T000523Z
LAST-MODIFIED:20260104T190258Z
UID:73302-1786903200-1786921200@www.kozzradio.com
SUMMARY:Wheatland - Toto\, Christopher Cross\, and The Romantics
DESCRIPTION:A Night Of Legends Live Onstage!
URL:https://www.kozzradio.com/event/toto-christopher-cross-and-the-romantics-2/
LOCATION:Toyota Amphitheatre\, 2677 Forty Mile Road\, Wheatland\, CA\, 95692\, United States
CATEGORIES:Concert
ATTACH;FMTTYPE=image/jpeg:https://dehayf5mhw1h7.cloudfront.net/wp-content/uploads/sites/2162/2025/12/09160212/toto-cross-romantics-toyota.jpeg
END:VEVENT
BEGIN:VEVENT
DTSTART;TZID=America/Los_Angeles:20260818T190000
DTEND;TZID=America/Los_Angeles:20260818T233000
DTSTAMP:20260419T234200
CREATED:20260122T184947Z
LAST-MODIFIED:20260414T202108Z
UID:73529-1787079600-1787095800@www.kozzradio.com
SUMMARY:Men at Work with Toad the Wet Sprocket
DESCRIPTION:Get you tickets now!
URL:https://www.kozzradio.com/event/men-at-work-with-toad-the-wet-sprocket/
LOCATION:Silver Legacy’s Grande Exposition Hall\, 407 N. Virginia Street\, Reno\, NV\, 89501\, United States
CATEGORIES:Concert
ATTACH;FMTTYPE=image/jpeg:https://dehayf5mhw1h7.cloudfront.net/wp-content/uploads/sites/2162/2026/01/22104913/men-at-work-concert-image.jpg
END:VEVENT
BEGIN:VEVENT
DTSTART;TZID=America/Los_Angeles:20260912T190000
DTEND;TZID=America/Los_Angeles:20260912T233000
DTSTAMP:20260419T234200
CREATED:20260330T140005Z
LAST-MODIFIED:20260414T201547Z
UID:73996-1789239600-1789255800@www.kozzradio.com
SUMMARY:Deep Purple & Kansas
DESCRIPTION:Get you tickets now!
URL:https://www.kozzradio.com/event/deep-purple-kansas/
LOCATION:Nugget Casino Resort\, 1100 Nugget Avenue\, Sparks\, NV\, 89431\, United States
CATEGORIES:Concert
ATTACH;FMTTYPE=image/jpeg:https://dehayf5mhw1h7.cloudfront.net/wp-content/uploads/sites/2162/2026/03/30054955/deep-purple-kansas-slider.jpg
END:VEVENT
BEGIN:VEVENT
DTSTART;TZID=America/Los_Angeles:20260923T183000
DTEND;TZID=America/Los_Angeles:20260923T230000
DTSTAMP:20260419T234200
CREATED:20251119T010457Z
LAST-MODIFIED:20251230T203820Z
UID:73165-1790188200-1790204400@www.kozzradio.com
SUMMARY:Motley Crue- The Return Of Carnival Of Sins - Wheatland
DESCRIPTION:Motley Crue\, Tesla\, Extreme! The Return of  Carnival of Sins! Toyota Amphitheater
URL:https://www.kozzradio.com/event/motley-crue-the-return-of-the-carnival-of-sins/
LOCATION:Toyota Amphitheatre\, 2677 Forty Mile Road\, Wheatland\, CA\, 95692\, United States
CATEGORIES:Concert
ATTACH;FMTTYPE=image/jpeg:https://dehayf5mhw1h7.cloudfront.net/wp-content/uploads/sites/2162/2025/11/19010457/static_social-facebookpr_1200x630_motleycrue_2026_national.jpg
END:VEVENT
BEGIN:VEVENT
DTSTART;TZID=America/Los_Angeles:20260924T183000
DTEND;TZID=America/Los_Angeles:20260924T230000
DTSTAMP:20260419T234200
CREATED:20251119T011225Z
LAST-MODIFIED:20260123T224730Z
UID:73171-1790274600-1790290800@www.kozzradio.com
SUMMARY:Motley Crue- The Return of Carnival of Sins - Shoreline
DESCRIPTION:Motley Crue\, Tesla\, Extreme! The Return of Carnival of Sins! Shoreline Amphitheater
URL:https://www.kozzradio.com/event/motley-crue-the-return-of-carnival-of-sins-shoreline/
LOCATION:Shoreline Ampitheater\, One Amphitheatre Pkwy\, Mountain View\, CA\, 94043\, United States
ATTACH;FMTTYPE=image/jpeg:https://dehayf5mhw1h7.cloudfront.net/wp-content/uploads/sites/2162/2025/11/19011225/static_social-facebookpr_1200x630_motleycrue_2026_national.jpg
END:VEVENT
BEGIN:VEVENT
DTSTART;TZID=America/Los_Angeles:20260925T190000
DTEND;TZID=America/Los_Angeles:20260925T230000
DTSTAMP:20260419T234200
CREATED:20260413T170022Z
LAST-MODIFIED:20260414T201635Z
UID:74063-1790362800-1790377200@www.kozzradio.com
SUMMARY:Lynyrd Skynrd
DESCRIPTION:Don’t miss this show!
URL:https://www.kozzradio.com/event/lynyrd-skynrd/
LOCATION:Reno Event Center\, 400 N Center St\, Reno\, NV\, 89501\, United States
CATEGORIES:Concert
ATTACH;FMTTYPE=image/jpeg:https://dehayf5mhw1h7.cloudfront.net/wp-content/uploads/sites/2162/2026/04/10114044/ls.jpeg
END:VEVENT
BEGIN:VEVENT
DTSTART;TZID=America/Los_Angeles:20260926T190000
DTEND;TZID=America/Los_Angeles:20260926T233000
DTSTAMP:20260419T234200
CREATED:20260224T140055Z
LAST-MODIFIED:20260414T201649Z
UID:73712-1790449200-1790465400@www.kozzradio.com
SUMMARY:AJ Croce
DESCRIPTION:Get you tickets now!
URL:https://www.kozzradio.com/event/aj-croce/
LOCATION:Silver Legacy’s Grande Exposition Hall\, 407 N. Virginia Street\, Reno\, NV\, 89501\, United States
CATEGORIES:Concert
ATTACH;FMTTYPE=image/jpeg:https://dehayf5mhw1h7.cloudfront.net/wp-content/uploads/sites/2162/2026/02/24140055/croce-plays-croce.jpg
END:VEVENT
BEGIN:VEVENT
DTSTART;TZID=America/Los_Angeles:20261001T000000
DTEND;TZID=America/Los_Angeles:20270130T235959
DTSTAMP:20260419T234200
CREATED:20260226T162828Z
LAST-MODIFIED:20260306T210341Z
UID:73769-1790812800-1801353599@www.kozzradio.com
SUMMARY:Metallica- Life Burns Faster at Sphere- More Shows Added
DESCRIPTION:Metallica will debut its Life Burns Faster residency at Sphere this fall. The highly‑anticipated debut will have ten shows in October\, two shows in November\, and 2 shows in January. Metallica will continue their No Repeat Weekend tradition\, with no songs repeated on each Thursday and Saturday throughout the course of the run. Extensive details through the event link provided \nMetallica’s Fifth Member fan club can be joined for free here:  \nhttps://www.metallica.com/register/
URL:https://www.kozzradio.com/event/metallica-life-burns-faster-at-the-sphere/
LOCATION:Sphere\, 255 Sands Ave\, Las Vegas\, NV\, 89169\, United States
CATEGORIES:Concert
ATTACH;FMTTYPE=image/jpeg:https://dehayf5mhw1h7.cloudfront.net/wp-content/uploads/sites/2162/2026/03/26162828/metallica-exo-3.jpg
END:VEVENT
BEGIN:VEVENT
DTSTART;TZID=America/Los_Angeles:20261001T000000
DTEND;TZID=America/Los_Angeles:20261004T235900
DTSTAMP:20260419T234200
CREATED:20260304T191415Z
LAST-MODIFIED:20260320T022122Z
UID:73842-1790812800-1791158340@www.kozzradio.com
SUMMARY:Aftershock 2026
DESCRIPTION:The Full Line up for 2026! We’ve got your tickets\, listen for details on you can WIN passes to the BIGGEST rock music festival in US! Tickets ARE on sale now\, click the link here!\nCheck out the line up…
URL:https://www.kozzradio.com/event/aftershock-2026/
LOCATION:Discovery Park\, 1000 Garden Hwy\, Sacramento\, CA\, 95833\, United States
CATEGORIES:Concert
ATTACH;FMTTYPE=image/jpeg:https://dehayf5mhw1h7.cloudfront.net/wp-content/uploads/sites/2162/2026/03/04191415/as26-digitalassets_1260x720.jpg
END:VEVENT
BEGIN:VEVENT
DTSTART;TZID=America/Los_Angeles:20261101T070000
DTEND;TZID=America/Los_Angeles:20261101T230000
DTSTAMP:20260419T234200
CREATED:20260410T164244Z
LAST-MODIFIED:20260414T201606Z
UID:74060-1793516400-1793574000@www.kozzradio.com
SUMMARY:Foreigner: Celebrating Fifty Years
DESCRIPTION:Get you tickets now!
URL:https://www.kozzradio.com/event/foreigner-celebrating-fifty-years/
LOCATION:Reno Ballroom\, 401 N Center St\, Reno\, NV\, 89501\, United States
CATEGORIES:Concert
ATTACH;FMTTYPE=image/jpeg:https://dehayf5mhw1h7.cloudfront.net/wp-content/uploads/sites/2162/2026/04/10094220/foreigner-reno-ballroom.jpg
END:VEVENT
BEGIN:VEVENT
DTSTART;TZID=America/Los_Angeles:20261104T190000
DTEND;TZID=America/Los_Angeles:20261104T233000
DTSTAMP:20260419T234200
CREATED:20260220T184240Z
LAST-MODIFIED:20260414T201517Z
UID:73709-1793818800-1793835000@www.kozzradio.com
SUMMARY:Leonid & Friends
DESCRIPTION:Get you tickets now!
URL:https://www.kozzradio.com/event/leonid-friends/
LOCATION:Harrah’s Lake Tahoe\, 15 US-50\, Stateline\, NV\, 89449\, United States
CATEGORIES:Concert
ATTACH;FMTTYPE=image/jpeg:https://dehayf5mhw1h7.cloudfront.net/wp-content/uploads/sites/2162/2026/02/20104211/leonid-friends.jpg
END:VEVENT
END:VCALENDAR